BEGIN:VCALENDAR
VERSION:2.0
PRODID:-//Date iCal//NONSGML kigkonsult.se iCalcreator 2.20.2//
METHOD:PUBLISH
X-WR-CALNAME;VALUE=TEXT:Council 65 — Representing Minnesota\, South Dakota 
 and North Dakota
BEGIN:VTIMEZONE
TZID:America/North_Dakota/Center
BEGIN:STANDARD
DTSTART:20181104T020000
TZOFFSETFROM:-0500
TZOFFSETTO:-0600
RDATE:20191103T020000,20201101T020000,20211107T020000,20221106T020000,20231
 105T020000,20241103T020000
TZNAME:CST
END:STANDARD
BEGIN:DAYLIGHT
DTSTART:20190310T020000
TZOFFSETFROM:-0600
TZOFFSETTO:-0500
RDATE:20200308T020000,20210314T020000,20220313T020000,20230312T020000,20240
 310T020000
TZNAME:CDT
END:DAYLIGHT
END:VTIMEZONE
BEGIN:VEVENT
UID:calendar.133716.field_oa_date.0@www.afscme65.org
DTSTAMP:20240226T050301Z
CREATED:20220126T171600Z
DESCRIPTION:Please join AFSCME Local 105 MLPNA in St. Cloud\, April 16th-18
 th\, 2024 for the 78th Annual MLPNA Conference. This three day conference 
 consists of two full days of seminars and one day being the Local 105 MLPN
 A member meeting. You do not have to be a member of AFSCME or MLPNA to att
 end the seminar days. You can earn 10 CEUs for attending all seminars.\n\n
 Tuesday\, April 16th Seminar Topics: Workplace Burnout\, Optometry\, Women
  & PTSD\n\nWednesday\, April 17th Seminar Topics: Advocacy in Healthcare\,
  Hospice for Kids\, Dental Health\, Carcinoid Cancer\, Trauma\n\nThursday\
 , April 18th Closed Session: Local 105 MLPNA Member Meeting (members only)
 \n\nFor a full schedule of events\, check out the registration form linked
  below.\n\nTo register\, download the registration form linked below\, fil
 l out and mail to Linda Wills (mailing address on form). 2024 MLPNA Confer
 ence Registration Form
DTSTART;VALUE=DATE:20240416
DTEND;VALUE=DATE:20240419
LAST-MODIFIED:20240116T143416Z
LOCATION:Holiday Inn & Suites St. Cloud (75 S 37th Ave St. Cloud\, MN 56301
 )
SUMMARY:78th Annual MLPNA Conference
URL;TYPE=URI:https://www.afscme65.org/minnesota-licensed-practical-nurses-a
 ssociation/events-calendar/78th-annual-mlpna-conference
END:VEVENT
BEGIN:VEVENT
UID:calendar.105764.field_oa_date.0@www.afscme65.org
DTSTAMP:20240226T050301Z
CREATED:20210205T152500Z
DESCRIPTION:Please join us in St. Cloud\, April 20-22nd\, 2021 for the 75th
  Annual LPN Conference. At the conference\, we will update you on the past
  year of MLPNA\, as well as Council 65\, hold elections for officers\; and
  elect delegates to attend the 2021 Council 65 Annual Convention in Septem
 ber. See event brochure for conference schedule and details. \n\n\n\nConfe
 rence Cost\n\nMembersFull Conference: $100 (prior to March 20th)\, $110 (a
 fter March 20th)Retired Member: $65Attending April 21st Only: $35Attending
  April 22nd Only: $55Attending April 23rd Only: $35Attending Banquet Only:
  $35\n\nNon-Member/GuestsFull Conference: $115 (prior to March 20th)\, $12
 5 (after March 20th)Attending April 21st Only: $40Attending April 22nd Onl
 y: $65Attending April 23rd Only: 40Attending Banquet Only: $35\n\nTo Regis
 ter\n\nPlease fill out a registration form (located on the back of the lin
 ked brochure above). Checks should be made out to MLPNA/AFSCME Local 105. 
 Please return registration form and check to: Ms. Linda Wills\, LPN 43135 
 451st Ave Nicollet\, MN 56074
DTSTART;VALUE=DATE:20210420
DTEND;VALUE=DATE:20210423
LAST-MODIFIED:20220201T194333Z
LOCATION:Holiday Inn & Suites75 South 37th AveSt. Cloud\, MN 56301\n\nHotel
  information: https://www.ihg.com/holidayinn/hotels/us/en/st-cloud/stcmn/h
 oteldetail
SUMMARY:75th MLPNA Conference
URL;TYPE=URI:https://www.afscme65.org/minnesota-licensed-practical-nurses-a
 ssociation/events-calendar/75th-mlpna-conference
END:VEVENT
BEGIN:VEVENT
UID:calendar.46481.field_oa_date.0@www.afscme65.org
DTSTAMP:20240226T050301Z
CREATED:20190418T194603Z
DTSTART;TZID=America/North_Dakota/Center:20190420T230000
DTEND;TZID=America/North_Dakota/Center:20190420T230000
LAST-MODIFIED:20190418T194603Z
SUMMARY:MLPNA Executive Board Meeting.
URL;TYPE=URI:https://www.afscme65.org/minnesota-licensed-practical-nurses-a
 ssociation/events-calendar/mlpna-executive-board-meeting
END:VEVENT
END:VCALENDAR
