BEGIN:VCALENDAR
VERSION:2.0
PRODID:-//Date iCal//NONSGML kigkonsult.se iCalcreator 2.20.2//
METHOD:PUBLISH
X-WR-CALNAME;VALUE=TEXT:Council 65 — Representing Minnesota\, South Dakota 
 and North Dakota
BEGIN:VTIMEZONE
TZID:America/New_York
BEGIN:STANDARD
DTSTART:20231105T020000
TZOFFSETFROM:-0400
TZOFFSETTO:-0500
RDATE:20241103T020000
TZNAME:EST
END:STANDARD
BEGIN:DAYLIGHT
DTSTART:20230312T020000
TZOFFSETFROM:-0500
TZOFFSETTO:-0400
RDATE:20240310T020000,20250309T020000
TZNAME:EDT
END:DAYLIGHT
END:VTIMEZONE
BEGIN:VEVENT
UID:calendar.197228.field_oa_date.0@www.afscme65.org
DTSTAMP:20240226T043146Z
CREATED:20240221T191317Z
DESCRIPTION:Click here to register!
DTSTART;TZID=America/New_York:20241023T170000
DTEND;TZID=America/New_York:20241023T190000
LAST-MODIFIED:20240221T191317Z
LOCATION:509 America Ave NW\, Bemidji\, MN 56601
SUMMARY:Steward Training (Bemidji\, MN)
URL;TYPE=URI:https://www.afscme65.org/calendar-events/steward-training-bemi
 dji
END:VEVENT
BEGIN:VEVENT
UID:calendar.197227.field_oa_date.0@www.afscme65.org
DTSTAMP:20240226T043146Z
CREATED:20240221T190200Z
DESCRIPTION:Click here to register!
DTSTART;TZID=America/New_York:20240529T170000
DTEND;TZID=America/New_York:20240529T190000
LAST-MODIFIED:20240221T190418Z
LOCATION:110 N Ash St Crookston\, MN 56716
SUMMARY:Steward Training (Crookston\, MN)
URL;TYPE=URI:https://www.afscme65.org/calendar-events/steward-training-4
END:VEVENT
BEGIN:VEVENT
UID:calendar.197221.field_oa_date.0@www.afscme65.org
DTSTAMP:20240226T043146Z
CREATED:20240220T191100Z
DTSTART;TZID=America/New_York:20240326T170000
DTEND;TZID=America/New_York:20240326T193000
LAST-MODIFIED:20240220T191230Z
LOCATION:1300 W St Germain St\, St Cloud\, MN 56301
SUMMARY:MN AFL-CIO Racial & Economic Justice Committee Panel
URL;TYPE=URI:https://www.afscme65.org/calendar-events/mn-afl-cio-racial
END:VEVENT
BEGIN:VEVENT
UID:calendar.195692.field_oa_date.0@www.afscme65.org
DTSTAMP:20240226T043146Z
CREATED:20240208T162531Z
DESCRIPTION:Click here to register!
DTSTART;TZID=America/New_York:20240930T173000
DTEND;TZID=America/New_York:20240930T183000
LAST-MODIFIED:20240208T162531Z
LOCATION:AFSCME Council 65 Office (118 Central Ave Nashwauk\, MN 55769)
SUMMARY:Labor History Training
URL;TYPE=URI:https://www.afscme65.org/calendar-events/labor-history-trainin
 g
END:VEVENT
BEGIN:VEVENT
UID:calendar.195689.field_oa_date.0@www.afscme65.org
DTSTAMP:20240226T043146Z
CREATED:20240208T155454Z
DESCRIPTION:Click here to register!
DTSTART;TZID=America/New_York:20240404T173000
DTEND;TZID=America/New_York:20240404T193000
LAST-MODIFIED:20240208T155454Z
LOCATION:301 3rd Ave International Falls\, MN 56649
SUMMARY:Steward Training (International Falls\, MN)
URL;TYPE=URI:https://www.afscme65.org/calendar-events/steward-training-3
END:VEVENT
BEGIN:VEVENT
UID:calendar.195681.field_oa_date.0@www.afscme65.org
DTSTAMP:20240226T043146Z
CREATED:20240207T160921Z
DESCRIPTION:RSVP by September 11th: Email Labor Representative\, Tom Whites
 ide\, at twhiteside@afscme65.org to register!
DTSTART;TZID=America/New_York:20240912T163000
DTEND;TZID=America/New_York:20240912T183000
LAST-MODIFIED:20240207T160921Z
LOCATION:Cloquet Library (320 14th St Cloquet\, MN 55720)
SUMMARY:Steward Training (Cloquet\, MN)
URL;TYPE=URI:https://www.afscme65.org/calendar-events/steward-training-cloq
 uet
END:VEVENT
BEGIN:VEVENT
UID:calendar.195680.field_oa_date.0@www.afscme65.org
DTSTAMP:20240226T043146Z
CREATED:20240207T154600Z
DESCRIPTION:RSVP by May 28th: Email Labor Representative\, Tom Whiteside\, 
 at twhiteside@afscme65.org to register!
DTSTART;TZID=America/New_York:20240529T173000
DTEND;TZID=America/New_York:20240529T193000
LAST-MODIFIED:20240207T154850Z
LOCATION:AFSCME Office (118 Central Ave Nashwauk\, MN 55769)
SUMMARY:Steward Training (Nashwauk\, MN)
URL;TYPE=URI:https://www.afscme65.org/calendar-events/steward-training-2
END:VEVENT
BEGIN:VEVENT
UID:calendar.195674.field_oa_date.0@www.afscme65.org
DTSTAMP:20240226T043146Z
CREATED:20240206T201800Z
DESCRIPTION:Click here to register!
DTSTART;TZID=America/New_York:20240328T173000
DTEND;TZID=America/New_York:20240328T193000
LAST-MODIFIED:20240206T201952Z
LOCATION:Pizza Ranch (14643 Edgewood Dr N Suite 110 Baxter\, MN 56425)
SUMMARY:Steward Training (Baxter\, MN)
URL;TYPE=URI:https://www.afscme65.org/calendar-events/steward-training-baxt
 er
END:VEVENT
BEGIN:VEVENT
UID:calendar.195587.field_oa_date.0@www.afscme65.org
DTSTAMP:20240226T043146Z
CREATED:20240202T173749Z
DESCRIPTION:The annual South Dakota Legislative Conference is taking place 
 on February 22nd at the Best Western Ramkota Hotel River Center in Pierre\
 , SD. This is an opportunity to meet elected officials and other people of
  interest\, as well as an opportunity to visit the State Capitol. Please i
 nvite your union brothers and sisters to attend. 12:30 - 4:30 pm = Informa
 tional sessions with DLR and PUC representatives\, and more6:00 pm = Meet 
 and greet over beer and brats\n\nIf you have any questions\, would like to
  contribute to offset event cost\, or want more event information\, please
  contact BJ Motely\, President & Financial Secretary of the South Dakota S
 tate Federation of Labor\, AFL-CIO\, at 605-940-7960 (office) or 605-366-8
 631.Planning to attend? Let us know you are going by registering here!
DTSTART;TZID=America/New_York:20240222T123000
DTEND;TZID=America/New_York:20240222T190000
LAST-MODIFIED:20240202T173749Z
LOCATION:Ramkota Hotel Pierre (920 West Sioux Ave\, Pierre\, SD 57501)
SUMMARY:SD Legislative Day
URL;TYPE=URI:https://www.afscme65.org/calendar-events/sd-legislative-day
END:VEVENT
BEGIN:VEVENT
UID:calendar.194211.field_oa_date.0@www.afscme65.org
DTSTAMP:20240226T043146Z
CREATED:20240119T144900Z
DESCRIPTION:AFSCME International is hosting a virtual Treasurer Training fo
 r Council 65 local leadership on Wednesday\, April 10th\, 2024 from 5:00 –
  9:00 pm.\n\nThis class will cover the Financial Standards Code as well as
  the surety bond\, LUAFR\, and IRS 990 forms that need to be completed ann
 ually. This is a great class for newly elected treasurers as well as those
  looking for a refresher. \n\nRegistration is required. Visit https://acti
 onnetwork.org/events/treasurer-training-6/ to register. \n\nPlease RSVP by
  Wednesday\, April 3rd!
DTSTART;TZID=America/New_York:20240410T170000
DTEND;TZID=America/New_York:20240410T210000
LAST-MODIFIED:20240119T145434Z
LOCATION:Virtual
SUMMARY:Treasurer Training
URL;TYPE=URI:https://www.afscme65.org/calendar-events/treasurer-training-2
END:VEVENT
BEGIN:VEVENT
UID:calendar.189125.field_oa_date.0@www.afscme65.org
DTSTAMP:20240226T043146Z
CREATED:20231121T145700Z
DESCRIPTION:All AFSCME members are invited to this FREE training. Current a
 nd future officers\, as well as new employees/members or stewards are enco
 uraged to attend. The information covered will be applicable to all AFSCME
  members. Topics include: what is a steward\, how to talk to new employees
 \, grievance processing\, and representing employees in discipline.\n\nYou
  or your local will be responsible for purchasing a dinner off the menu.\n
 \nPlease click here to RSVP by Monday\, December 11th\, 2023.\n\nContact A
 FSCME Council 65 Labor Representative\, Eric Austin\, at eaustin@afscme65.
 org or 507-227-5630 if you have any questions.
DTSTART;TZID=America/New_York:20231214T163000
DTEND;TZID=America/New_York:20231214T203000
LAST-MODIFIED:20231121T150049Z
LOCATION:Wooden Nickel Restaurant (448 West Main St Marshall\, MN 56258)
SUMMARY:Steward Training (Advanced) - Marshall\, MN
URL;TYPE=URI:https://www.afscme65.org/calendar-events/steward-training-1
END:VEVENT
BEGIN:VEVENT
UID:calendar.189123.field_oa_date.0@www.afscme65.org
DTSTAMP:20240226T043146Z
CREATED:20231121T145200Z
DESCRIPTION:All AFSCME members are invited to this FREE training. Current a
 nd future officers\, as well as new employees/members or stewards are enco
 uraged to attend. The information covered will be applicable to all AFSCME
  members. Topics include: what is a steward\, how to talk to new employees
 \, grievance processing\, and representing employees in discipline.\n\nYou
  or your local will be responsible for purchasing a dinner off the menu.\n
 \nPlease click here to RSVP by Monday\, December 11th\, 2023.\n\nContact A
 FSCME Council 65 Labor Representative\, Eric Austin\, at eaustin@afscme65.
 org or 507-227-5630 if you have any questions.
DTSTART;TZID=America/New_York:20231213T163000
DTEND;TZID=America/New_York:20231213T203000
LAST-MODIFIED:20231121T145611Z
LOCATION:Wooden Nickel Restaurant (448 West Main St Marshall\, MN 56258)
SUMMARY:Steward Training (Beginning) - Marshall\, MN
URL;TYPE=URI:https://www.afscme65.org/calendar-events/steward-training-0
END:VEVENT
BEGIN:VEVENT
UID:calendar.185434.field_oa_date.0@www.afscme65.org
DTSTAMP:20240226T043146Z
CREATED:20231017T145945Z
DESCRIPTION:Details to come...
DTSTART;VALUE=DATE:20240812
DTEND;VALUE=DATE:20240817
LAST-MODIFIED:20231017T145945Z
LOCATION:Los Angeles\, CA
SUMMARY:46th Annual AFSCME International Convention
URL;TYPE=URI:https://www.afscme65.org/calendar-events/46th-annual-afscme
END:VEVENT
BEGIN:VEVENT
UID:calendar.185433.field_oa_date.0@www.afscme65.org
DTSTAMP:20240226T043146Z
CREATED:20231017T145800Z
DESCRIPTION:Join AFSCME 65 members from all corners of Minnesota as we spea
 k with elected leaders about the work you do and the issues facing you and
  your family. This event is free for AFSCME PEOPLE MVPs\, members can sign
  up for PEOPLE at the event or by visiting the AFSCME PEOPLE Website.  Mem
 bers who are not PEOPLE MVPs can make a one-time $30 people donation at th
 e event.\n\nIf you have any questions or want to know if you are a PEOPLE 
 MVP\, email us at info@afscme65.org.\n\nAFSCME 65Minnesota Lobby Day\n\nTh
 ursday - March 14\, 2024\n\nMeet at MN AFL-CIO175 Aurora AveSt. Paul\, MN 
 55103\n\nEnd Time TBDClick here to register now!\n\n\n\nGuests are welcome
 \, however their donation must be made by an AFSCME member.
DTSTART;VALUE=DATE:20240314
DTEND;VALUE=DATE:20240315
LAST-MODIFIED:20240131T163934Z
LOCATION:175 Aurora Ave\, St. Paul\, MN 55103
SUMMARY:Day on the Hill
URL;TYPE=URI:https://www.afscme65.org/calendar-events/day-hill-0
END:VEVENT
BEGIN:VEVENT
UID:calendar.181104.field_oa_date.0@www.afscme65.org
DTSTAMP:20240226T043146Z
CREATED:20230831T132320Z
DTSTART;TZID=America/New_York:20230904T120000
DTEND;TZID=America/New_York:20230904T150000
LAST-MODIFIED:20230831T132320Z
LOCATION:Oscar Kristofferson Park (5672 Baxter Lions Rd N\, Baxter\, MN 564
 25)
SUMMARY:Labor Day Picnic - Baxter\, MN
URL;TYPE=URI:https://www.afscme65.org/calendar-events/labor-day-picnic-baxt
 er
END:VEVENT
BEGIN:VEVENT
UID:calendar.181075.field_oa_date.0@www.afscme65.org
DTSTAMP:20240226T043146Z
CREATED:20230828T144200Z
DTSTART;TZID=America/New_York:20230904T120000
DTEND;TZID=America/New_York:20230904T160000
LAST-MODIFIED:20230828T144311Z
LOCATION:Olcott Park (901 9th St N\, Virginia\, MN 55792)
SUMMARY:Labor Day Picnic - Virginia\, MN
URL;TYPE=URI:https://www.afscme65.org/calendar-events/labor-day-picnic-0
END:VEVENT
BEGIN:VEVENT
UID:calendar.180993.field_oa_date.0@www.afscme65.org
DTSTAMP:20240226T043146Z
CREATED:20230821T185100Z
DESCRIPTION:61st Annual Council 65 ConventionArrowwood Resort - Alexandria\
 , MNOctober 10th - 12th\, 2024\n\nDetails to come Summer 2024!
DTSTART;VALUE=DATE:20241010
DTEND;VALUE=DATE:20241013
LAST-MODIFIED:20231017T145353Z
LOCATION:2100 Arrowwood Ln\, Alexandria\, MN 56308
SUMMARY:Council 65's 61st Annual Convention
URL;TYPE=URI:https://www.afscme65.org/calendar-events/council-65s-61st-annu
 al
END:VEVENT
BEGIN:VEVENT
UID:calendar.179831.field_oa_date.0@www.afscme65.org
DTSTAMP:20240226T043146Z
CREATED:20230803T174600Z
DTSTART;TZID=America/New_York:20230904T110000
DTEND;TZID=America/New_York:20230904T150000
LAST-MODIFIED:20230828T144058Z
LOCATION:Terrace Park West Shelter (1100 W 4th Ave Sioux Falls\, SD 57104)
SUMMARY:Labor Day Picnic - Sioux Falls\, SD
URL;TYPE=URI:https://www.afscme65.org/calendar-events/labor-day-picnic-siou
 x
END:VEVENT
BEGIN:VEVENT
UID:calendar.178812.field_oa_date.0@www.afscme65.org
DTSTAMP:20240226T043146Z
CREATED:20230802T203300Z
DESCRIPTION:Join us for a two-day training\, followed by a union-building f
 ield project in your local. Gain knowledge and skills to lead your union a
 nd win improvements for workersIncrease your ability to work effectively a
 s a union leadership teamBuild a structure to engage and mobilize your mem
 bersSet goals and develop an action plan for strengthening your union at a
 ll levelsConnect with others\, be inspired\, and have fun!DAY 1 (SAturday\
 , september 16TH):10:00 am - training begins12:00 pm - break for lunch\, p
 rovided5:00 pm - dinner\, providedDAY 2 (sunday\, september 17TH):9:00 am 
 - training begins11:30 am - break for lunch\, provided4:00 pm - training w
 raps up\n\nAFSCME will provide all meals as well as double-occupancy hotel
  rooms for Saturday evening for all participants. Single rooms and/or addi
 tional night stays will need to be paid for on your own.Registration for t
 his event has closed.
DTSTART;VALUE=DATE:20230916
DTEND;VALUE=DATE:20230918
LAST-MODIFIED:20230912T134843Z
LOCATION:Best Western Plus Ramkota Hotel (3200 W Maple St Sioux Falls\, SD 
 57107)
SUMMARY:Local Union Leadership Academy (LULA) - Sioux Falls
URL;TYPE=URI:https://www.afscme65.org/calendar-events/local-union-leadershi
 p-1
END:VEVENT
BEGIN:VEVENT
UID:calendar.175674.field_oa_date.0@www.afscme65.org
DTSTAMP:20240226T043146Z
CREATED:20230622T190751Z
DESCRIPTION:Join Local 1031 for an opportunity to connect with fellow union
  members\, enhance your skills through engaging workshops\, and enjoy a de
 lectable potluck spread filled with homemade dishes!\n\nOn Friday\, we wil
 l have a social hour with games at the Labor Temple starting at 5:00 pm. W
 e will be hosting a training on Saturday morning starting at 9:00 am for a
 ll employees and a cookie decorating for kids and families starting at 10:
 30 am\, with the potluck starting at 11:30 am. The cookies will be donated
  to the Hoodcakes Fundraiser to help support our community. \n\nTogether\,
  let's celebrate our solidarity\, strengthen our knowledge\, and build a s
 tronger union & community for all. Don't miss out on this fantastic event 
 that combines learning\, networking\, and delightful culinary experiences.
  Please bring your friends and family! \n\nContact Local 1031 President\, 
 Sean Jewett\, with questions: seanjewett70@gmail.com.
DTSTART;VALUE=DATE:20230714
DTEND;VALUE=DATE:20230716
LAST-MODIFIED:20230622T190751Z
LOCATION:Labor Temple (911 E Patrick Street Rapid City\, SD 57701)
SUMMARY:Local 1031 Union Social\, Training\, and Potluck
URL;TYPE=URI:https://www.afscme65.org/calendar-events/local-1031-union-soci
 al
END:VEVENT
END:VCALENDAR
